BEGIN:VCALENDAR
VERSION:2.0
PRODID:-//Camera de Comerț și Industrie Prahova - ECPv6.13.2.1//NONSGML v1.0//EN
CALSCALE:GREGORIAN
METHOD:PUBLISH
X-WR-CALNAME:Camera de Comerț și Industrie Prahova
X-ORIGINAL-URL:https://cciph.ro
X-WR-CALDESC:Evenimente pentru Camera de Comerț și Industrie Prahova
REFRESH-INTERVAL;VALUE=DURATION:PT1H
X-Robots-Tag:noindex
X-PUBLISHED-TTL:PT1H
BEGIN:VTIMEZONE
TZID:Europe/Moscow
BEGIN:STANDARD
TZOFFSETFROM:+0300
TZOFFSETTO:+0300
TZNAME:MSK
DTSTART:20260101T000000
END:STANDARD
END:VTIMEZONE
BEGIN:VEVENT
DTSTART;TZID=Europe/Moscow:20260427T100000
DTEND;TZID=Europe/Moscow:20260427T170000
DTSTAMP:20260425T155725
CREATED:20260422T131208Z
LAST-MODIFIED:20260422T131208Z
UID:14140-1777284000-1777309200@cciph.ro
SUMMARY:Seminar despre 𝐍𝐎𝐔𝐓𝐀𝐓𝐈 𝐬𝐢 𝐀𝐁𝐎𝐑𝐃𝐀𝐑𝐈 𝐅𝐈𝐒𝐂𝐀𝐋𝐄 𝟐𝟎𝟐𝟔\, susținut de către lector Drd. Ec. 𝗔𝗱𝗿𝗶𝗮𝗻 𝗕𝗲𝗻𝘁̦𝗮
DESCRIPTION:CCI Prahova va găzdui un seminar despre 𝐍𝐎𝐔𝐓𝐀𝐓𝐈 𝐬𝐢 𝐀𝐁𝐎𝐑𝐃𝐀𝐑𝐈 𝐅𝐈𝐒𝐂𝐀𝐋𝐄 𝟐𝟎𝟐𝟔\, susținut de către lector Drd. Ec. 𝗔𝗱𝗿𝗶𝗮𝗻 𝗕𝗲𝗻𝘁̦𝗮 – Consultant fiscal și auditor financiar.\n𝘛𝘦𝘮𝘢𝘵𝘪𝘤𝘢 𝘱𝘳𝘰𝘱𝘶𝘴𝘢:\n• Noutăți fiscale aplicabile începând cu anul 2026;\n• Noi restricții în funcționarea societăților. Activul net contabil și dotarea cu mijloace moderne de plată;\n• Elemente cu incidență fiscală privind calculul de impozit pe profit\, provizioane\, cheltuieli nedeductibile\, venituri neimpozabile\, profit reinvestit;\n• Recapitulație în domeniul TVA;\n• Recapitulație în domeniul impozitului pe venitul microîntreprinderii;\n• Recapitulație impozit datorat de nerezidenți în România;\n• Discuții libere pe diverse teme ale participanților la seminar.\nDesfasurare: Luni\, 27.04.2026\, orele 10.00\, în sală (Camera de Comerț și Industrie Prahova) sau online (Zoom)\nPret: 450 lei (TVA inclus)\nInformații și înscrieri: tel: 0244.596.369\, mobil: 0741231247\, email: curs@cciph.ro\, persoane de contact: Ancuta Neder-Director\, Silvia Ghinea-consilier.
URL:https://cciph.ro/event/seminar-despre-%f0%9d%90%8d%f0%9d%90%8e%f0%9d%90%94%f0%9d%90%93%f0%9d%90%80%f0%9d%90%93%f0%9d%90%88-%f0%9d%90%ac%f0%9d%90%a2-%f0%9d%90%80%f0%9d%90%81%f0%9d%90%8e%f0%9d%90%91%f0%9d%90%83%f0%9d%90%80/
CATEGORIES:Seminarii / dezbateri / conferințe / work-shop-uri  / acțiuni de promovare
ATTACH;FMTTYPE=image/jpeg:https://cciph.ro/wp-content/uploads/2026/04/Adrian-Benta.jpg
END:VEVENT
END:VCALENDAR