BEGIN:VCALENDAR
VERSION:2.0
PRODID:-//Camera de Comerț și Industrie Prahova - ECPv6.13.2.1//NONSGML v1.0//EN
CALSCALE:GREGORIAN
METHOD:PUBLISH
X-WR-CALNAME:Camera de Comerț și Industrie Prahova
X-ORIGINAL-URL:https://cciph.ro
X-WR-CALDESC:Evenimente pentru Camera de Comerț și Industrie Prahova
REFRESH-INTERVAL;VALUE=DURATION:PT1H
X-Robots-Tag:noindex
X-PUBLISHED-TTL:PT1H
BEGIN:VTIMEZONE
TZID:Europe/Moscow
BEGIN:STANDARD
TZOFFSETFROM:+0300
TZOFFSETTO:+0300
TZNAME:MSK
DTSTART:20250101T000000
END:STANDARD
END:VTIMEZONE
BEGIN:VEVENT
DTSTART;TZID=Europe/Moscow:20250515T080000
DTEND;TZID=Europe/Moscow:20250515T170000
DTSTAMP:20260422T115233
CREATED:20250514T150006Z
LAST-MODIFIED:20250514T150006Z
UID:13544-1747296000-1747328400@cciph.ro
SUMMARY:Concursul Romanian Business Challenge\, editia a XIII-a
DESCRIPTION:Joi 15 mai a.c.\, Camera de Comerț și Industrie Prahova va fi gazda unor importante evenimente dedicate antreprenorilor juniori și profesorilor.\nConcursul național de educație antreprenorială „Romanian Business Challenge”\, editia a XIII-a\, va avea loc în sala Europa și Simpozionul Internațional „Performanțe prin parteneriate”\, având ca temă Excelența Profesională ca raspuns la nevoile unei economii inovatoare favorabilă incluziunii sociale și sustenabilității.\nEvenimentele sunt organizate de Colegiul Economic „Virgil Madgearu” și Camera de Comerț și Industrie Prahova în parteneriat cu Universitatea Petrol- Gaze Ploiești și CECCAR Prahova.\nConcursul “Romanian Business Challenge” reprezintă o oportunitate pentru elevi/studenți\, care pot experimenta munca într-o echipă.\nObiectivele acestor evenimente sunt: \nColaborarea în domeniul activităților educative școlare şi extrașcolare în domeniul antreprenoriatului\, a proiectelor de succes;\nPromovarea calității în învățarea și formarea profesională inițială\, în învățarea și formarea profesională pe tot parcursul vieții;\nRealizarea unei punți între ceea ce se învață în școli și ceea ce reprezintă mediul de afaceri în realitate.\nInformații suplimentare:\nDirecția DPAE: programe@cciph.ro\, tel. 0344 401 203.
URL:https://cciph.ro/event/concursul-romanian-business-challenge-editia-a-xiii-a/
CATEGORIES:Seminarii / dezbateri / conferințe / work-shop-uri  / acțiuni de promovare
END:VEVENT
BEGIN:VEVENT
DTSTART;TZID=Europe/Moscow:20250519T080000
DTEND;TZID=Europe/Moscow:20250519T170000
DTSTAMP:20260422T115233
CREATED:20250519T091402Z
LAST-MODIFIED:20250519T091402Z
UID:13559-1747641600-1747674000@cciph.ro
SUMMARY:Seminar informativ cu noutăți legislative privind ocuparea forței de muncă
DESCRIPTION:Camera de Comerț și Industrie Prahova\, în colaborare cu Agenția Județeană pentru Ocuparea Forței de Muncă Prahova au deosebita plăcere să vă invite să participați la \nSeminarul informativ cu noutăți legislative privind ocuparea forței de muncă \n  \nMarti\, 27 mai  a.c.\, începând cu ora 10.30 (inregistrare si welcome coffee de la ora 10 :00)\, la Sala « Europa » de la sediul Camerei de Comerț și Industrie Prahova (Ploiești\, str. Cuza Vodă\, nr.8). \nSeminarul va fi susținut de specialiști din cadrul AJOFM Prahova si vor fi prezentate următoarele teme : \n  \n\nPlatforma PULS;\nRelatiile  cu angajatorii;\nIntreprinderile sociale – Luna Economiei Sociale;\nProiecte aflate in derulare;\nAlte noutăți legislative.\n\n  \nPentru inscriere\, accesati link-ul următor: \nCompletează formularul     \n  \nPentru detalii suplimentare\, vă puteți adresa Direcției Promovare\, Comunicare\, PR – Camera de Comerț și Industrie Prahova\, tel: 0344 401201\,  email: promovare@cciph.ro. \n 
URL:https://cciph.ro/event/seminar-informativ-cu-noutati-legislative-privind-ocuparea-fortei-de-munca-2/
CATEGORIES:Seminarii / dezbateri / conferințe / work-shop-uri  / acțiuni de promovare
ATTACH;FMTTYPE=image/jpeg:https://cciph.ro/wp-content/uploads/2025/05/cursuri-ajofm.jpg
END:VEVENT
BEGIN:VEVENT
DTSTART;TZID=Europe/Moscow:20250529T143000
DTEND;TZID=Europe/Moscow:20250529T200000
DTSTAMP:20260422T115233
CREATED:20250508T082309Z
LAST-MODIFIED:20250508T082309Z
UID:13530-1748529000-1748548800@cciph.ro
SUMMARY:Erpa HR INSPIRE – Oameni\, Tehnologie si Viitorul Muncii
DESCRIPTION:Camera de Comerț și Industrie Prahova\, în colaborare cu firma Erpa  HR si in parteneriat cu Safety Broker\, vă invita să participați la evenimentul: Erpa HR INSPIRE – Oameni\, Tehnologie si Viitorul Muncii\, care va avea loc joi\, 29 mai 2025\, începând cu ora 14:30\, la Sky Center – Sala Topaz\, Paulestii noi\, Strada Principala\, nr.1. \n  \nEvenimentul este  dedicat nu doar dialogului între profesioniștii din domeniul HR\, ci și unei etape-cheie din evoluția companiei Erpa HR\, care se dezvoltă și se transformă\, lansând oficial două noi divizii – Training și Asigurări – create din dorința de a oferi servicii integrate\, personalizate și relevante pentru nevoile reale ale firmelor din România. \n  \nParticiparea este gratuită\, însă locurile sunt limitate\, iar înregistrarea este obligatorie\, așadar\, vă invităm să confirmați participarea completând formularul de mai jos\, până la data de  13 mai a.c.\, prin accesarea link-ului : 👉 https://forms.gle/b8Pu4WKJ4vvtmUNe7 . \n  \nPentru detalii suplimentare\, vă puteți adresa Direcției Promovare\, Comunicare\, PR – Camera de Comerț și Industrie Prahova\, tel: 0344 401201\, email: promovare@cciph.ro. \n 
URL:https://cciph.ro/event/erpa-hr-inspire-oameni-tehnologie-si-viitorul-muncii/
CATEGORIES:Seminarii / dezbateri / conferințe / work-shop-uri  / acțiuni de promovare
ATTACH;FMTTYPE=image/jpeg:https://cciph.ro/wp-content/uploads/2025/05/Invitatie-Eveniment-Erpa-HR-Inspire-Oameni-Tehnologie-si-Viitorul-Muncii12-scaled.jpg
END:VEVENT
END:VCALENDAR