BEGIN:VCALENDAR
VERSION:2.0
PRODID:-//Camera de Comerț și Industrie Prahova - ECPv6.13.2.1//NONSGML v1.0//EN
CALSCALE:GREGORIAN
METHOD:PUBLISH
X-ORIGINAL-URL:https://cciph.ro
X-WR-CALDESC:Evenimente pentru Camera de Comerț și Industrie Prahova
REFRESH-INTERVAL;VALUE=DURATION:PT1H
X-Robots-Tag:noindex
X-PUBLISHED-TTL:PT1H
BEGIN:VTIMEZONE
TZID:Europe/Moscow
BEGIN:STANDARD
TZOFFSETFROM:+0300
TZOFFSETTO:+0300
TZNAME:MSK
DTSTART:20250101T000000
END:STANDARD
END:VTIMEZONE
BEGIN:VEVENT
DTSTART;VALUE=DATE:20250624
DTEND;VALUE=DATE:20250625
DTSTAMP:20260420T065658
CREATED:20250618T111026Z
LAST-MODIFIED:20250619T123655Z
UID:13646-1750723200-1750809599@cciph.ro
SUMMARY:Forum de Afaceri România - China\, pe 24 iunie
DESCRIPTION:Camera de Comert si Industrie Prahova organizeaza marti\, 24 iunie 2025\, incepand cu ora 11:00 (la sediul CCI Prahova din Ploiesti\, Str. Cuza Voda nr.8\, Sala Europa\, et.2) Forumul de Afaceri ROMANIA – CHINA\, cu ocazia vizitei in Romania a unei importante delegatii a Consiliului China – Europa pentru Cooperare Tehnica si Economica – CEATEC\, Delegatia este  formata din reprezentantii a 6 companii chineze\, din diverse sectoare de activitate: productie industriala (motoare\, echipamente de fabricare a produselorelor electronice)\, comert\, constructii amenajari spatii\, servicii specializate pentru industrie. \n  \nConsiliul China – Europa pentru Cooperare Tehnica si Economica – CEATEC este subordonat Ministerului Comertului din China si are ca scop  promovarea dezvoltarii economice si comerciale intre China si tarile UE\, prin organizarea periodica de vizite lucrative si contacte de afaceri si institutionale cu firme\, institutii si organizatii din tarile europene. \n  \nForumul de Afaceri are ca principal scop intensificarea relatiilor economice bilaterale prin stabilirea unui contact direct intre companiile chineze si prahovene interesate sa dezvolte relatii de colaborare comerciala si investitionala. Cu aceasta ocazie\, vor fi prezentate oportunitati de colaborare concrete\, vor fi organizate intalniri de afaceri B2B si veti avea prilejul sa dialogati atat cu firmele din cadrul delegatiei chineze dar si cu reprezentantii institutionali ai CEATEC\, o importanta organizatie si factor decident in derularea afacerilor. \nParticiparea se face in baza confirmarii pe care va rugam s-o transmiteti Directiei Relatii Interne si Internationale a CCIPH\, la e-mail: externe@cciph.ro. \n 
URL:https://cciph.ro/event/forum-de-afaceri-romania-china-pe-24-iunie/
CATEGORIES:Seminarii / dezbateri / conferințe / work-shop-uri  / acțiuni de promovare
END:VEVENT
END:VCALENDAR