BEGIN:VCALENDAR
VERSION:2.0
PRODID:-//Camera de Comerț și Industrie Prahova - ECPv6.13.2.1//NONSGML v1.0//EN
CALSCALE:GREGORIAN
METHOD:PUBLISH
X-ORIGINAL-URL:https://cciph.ro
X-WR-CALDESC:Evenimente pentru Camera de Comerț și Industrie Prahova
REFRESH-INTERVAL;VALUE=DURATION:PT1H
X-Robots-Tag:noindex
X-PUBLISHED-TTL:PT1H
BEGIN:VTIMEZONE
TZID:Europe/Moscow
BEGIN:STANDARD
TZOFFSETFROM:+0300
TZOFFSETTO:+0300
TZNAME:MSK
DTSTART:20250101T000000
END:STANDARD
END:VTIMEZONE
BEGIN:VEVENT
DTSTART;TZID=Europe/Moscow:20251203T093000
DTEND;TZID=Europe/Moscow:20251203T140000
DTSTAMP:20260419T214125
CREATED:20251118T145225Z
LAST-MODIFIED:20251118T145225Z
UID:13825-1764754200-1764770400@cciph.ro
SUMMARY:Forum Imobilar «Best Strategies and Predictions 2026»
DESCRIPTION:Data: 3 decembrie 2025\, 9:30 – 14:00 \nLocatie: sediul Camerei de Comert si Industrie Prahova (Ploiesti\, str. Cuza Voda\, nr. 8) \nOrganizatori: Camera de Comerț și Industrie Prahova și Camera de Comerț Belgia – Luxemburg – România – Moldova (BEROCC\, https://berocc.com/ ) \nEvenimentul\,  care  se adreseaza companiilor  și  investitorilor  din  domeniul  construcțiilor\, afacerilor imobiliare\, tehnologiei și sectoarelor conexe\, va fi compus din 2 paneluri de dezbateri tematice urmat de o sesiune de întâlniri B2B. \n  \nParticipând la acest forum\, veți avea ocazia să aflati: \n\n Perspective directe de la lideri din industrie și inovatori în tehnologie\n Strategii practice pentru implementarea soluțiilor AI în afaceri\n Oportunități de networking în domeniul imobiliar\n Acces timpuriu la tendințele și tehnologiile emergente din piață\n\n   Conditii de participare:  \n\nGratuit\, pentru membrii BEROCC și CCI Prahova\n50 EUR/participant\, pentru Non-membri: Taxa este solicitata de BEROCC (care va elibera factura) si include cheltuieli de organizare.\n\nPentru inregistrarea participarii\, va rugam sa accesati linkul: https://forms.gle/m7qDg6ur2TvY1y4H8 si sa confirmati la e-mail: externe@cciph.ro\, pana cel tarziu 21 noiembrie 2025. \n 
URL:https://cciph.ro/event/forum-imobilar-best-strategies-and-predictions-2026/
CATEGORIES:Seminarii / dezbateri / conferințe / work-shop-uri  / acțiuni de promovare
ATTACH;FMTTYPE=image/png:https://cciph.ro/wp-content/uploads/2025/11/Berocc-Real-Estate-Forum.jpg.png
END:VEVENT
END:VCALENDAR