BEGIN:VCALENDAR
VERSION:2.0
PRODID:-//Camera de Comerț și Industrie Prahova - ECPv6.13.2.1//NONSGML v1.0//EN
CALSCALE:GREGORIAN
METHOD:PUBLISH
X-ORIGINAL-URL:https://cciph.ro
X-WR-CALDESC:Evenimente pentru Camera de Comerț și Industrie Prahova
REFRESH-INTERVAL;VALUE=DURATION:PT1H
X-Robots-Tag:noindex
X-PUBLISHED-TTL:PT1H
BEGIN:VTIMEZONE
TZID:Europe/Moscow
BEGIN:STANDARD
TZOFFSETFROM:+0300
TZOFFSETTO:+0300
TZNAME:MSK
DTSTART:20260101T000000
END:STANDARD
END:VTIMEZONE
BEGIN:VEVENT
DTSTART;TZID=Europe/Moscow:20260212T080000
DTEND;TZID=Europe/Moscow:20260212T170000
DTSTAMP:20260419T194324
CREATED:20260130T204406Z
LAST-MODIFIED:20260130T204406Z
UID:13977-1770883200-1770915600@cciph.ro
SUMMARY:Seminar informativ cu tema Noutati in domeniul legislatei muncii\, sanatatii si securitatii in munca si a prevenirii si stingerii incendiilor
DESCRIPTION:Camera de Comerț și Industrie Prahova organizează un Seminar informativ cu tema Noutati in domeniul legislatei muncii\, sanatatii si securitatii in munca si a prevenirii si stingerii incendiilor. \nEvenimentul va avea loc joi\, 12 februarie 2026\, la ora 10:00 (cu primire si inregistrare de la ora 9:30)\, la Sala Europa de la sediul Camerei de Comert si Industrie Prahova (Ploiesti\, Str. Cuza Voda\, nr. 8). \nSeminarul va fi sustinut de specialisti din cadrul I.T.M. Prahova si I.S.U. Prahova si în cadrul acestuia vor fi prezentate urmatoarele teme: \n\nîncetarea si suspendarea  contractului individual  de muncă;\nnoul sistem de raportare a activității prestate în baza unui contract individual de muncă – aplicația REGES-ONLINE;\nprotecția sănătății si securității lucrătorilor față de riscurile datorate expunerii la azbest;\nformele muncii nedeclarate și sancțiunile prevăzute de lege în cazul utilizării muncii nedeclarate;\nalte noutăți  legislative din aria de competență a inspectoratelor teritoriale de muncă;\nnormativul privind securitatea la incendii a constructiilor – P8 / 1 – 2025;\nlegea nr. 307 / 2006 – modificari si completari.\n\n  \nPentru detalii suplimentare si inscriere\, vă puteți adresa Direcției Promovare\, Comunicare\, PR – Camera de Comerț și Industrie Prahova\, la tel: 0344 401202\, 0741 231250\, email: promovare@cciph.ro.
URL:https://cciph.ro/event/seminar-informativ-cu-tema-noutati-in-domeniul-legislatei-muncii-sanatatii-si-securitatii-in-munca-si-a-prevenirii-si-stingerii-incendiilor/
CATEGORIES:Seminarii / dezbateri / conferințe / work-shop-uri  / acțiuni de promovare
ATTACH;FMTTYPE=image/jpeg:https://cciph.ro/wp-content/uploads/2026/01/Noutati-legislative.jpg
END:VEVENT
END:VCALENDAR