BEGIN:VCALENDAR
VERSION:2.0
PRODID:-//Camera de Comerț și Industrie Prahova - ECPv6.13.2.1//NONSGML v1.0//EN
CALSCALE:GREGORIAN
METHOD:PUBLISH
X-WR-CALNAME:Camera de Comerț și Industrie Prahova
X-ORIGINAL-URL:https://cciph.ro
X-WR-CALDESC:Evenimente pentru Camera de Comerț și Industrie Prahova
REFRESH-INTERVAL;VALUE=DURATION:PT1H
X-Robots-Tag:noindex
X-PUBLISHED-TTL:PT1H
BEGIN:VTIMEZONE
TZID:Europe/Moscow
BEGIN:STANDARD
TZOFFSETFROM:+0300
TZOFFSETTO:+0300
TZNAME:MSK
DTSTART:20260101T000000
END:STANDARD
END:VTIMEZONE
BEGIN:VEVENT
DTSTART;TZID=Europe/Moscow:20260325T103000
DTEND;TZID=Europe/Moscow:20260325T170000
DTSTAMP:20260419T214312
CREATED:20260313T144818Z
LAST-MODIFIED:20260313T144818Z
UID:14025-1774434600-1774458000@cciph.ro
SUMMARY:Seminar informativ cu noutăți legislative: Transpunerea modificărilor legislative în domeniul concediilor și indemnizațiilor de sănătate – impact și aplicabilitate
DESCRIPTION:Camera de Comerț și Industrie Prahova organizează un Seminar informativ cu noutati legislative: «Transpunerea modificarilor legislative in domeniul concediilor si indemnizatiilor de sanatate – impact si aplicabilitate». \nSeminarul va avea loc miercuri\, 25 martie 2026\, la ora 10:30 (cu primire si inregistrare de la ora 10:00)\, la Sala Europa de la sediul Camerei de Comert si Industrie Prahova (Ploiesti\, Str. Cuza Voda\, nr. 8) si va fi sustinut de specialisti din cadrul C.A.S. PRAHOVA. \nPentru detalii suplimentare si inscriere\, vă puteți adresa Direcției Promovare\, Comunicare\, PR – Camera de Comerț și Industrie Prahova\, la tel: 0344 401202\, 0741 231250\, email: promovare@cciph.ro. \n 
URL:https://cciph.ro/event/seminar-informativ-cu-noutati-legislative-transpunerea-modificarilor-legislative-in-domeniul-concediilor-si-indemnizatiilor-de-sanatate-impact-si-aplicabilitate/
CATEGORIES:Seminarii / dezbateri / conferințe / work-shop-uri  / acțiuni de promovare
ATTACH;FMTTYPE=image/png:https://cciph.ro/wp-content/uploads/2026/03/concedii-poza.png
END:VEVENT
END:VCALENDAR